Workbook

Sheet CARATULA
A1: UNIVERSIDAD DE MAGALLANES
A2: DIRECCION DE CONTABILIDAD Y PRESUPUESTO
A3: PRESUPUESTO
B7: FORMULARIO PRESUPUESTARIO
B11: FECHA
B14: NOMBRE DEL PROYECTO, CURSO O ACTIVIDAD
B17: INSTITUCION O DESTINO ( SI ES INSTITUCION, ADJUNTAR FOTOCOPIA CONVENIO)
B18: UNIVERSIDAD DE MAGALLANES
B20: FACULTAD | F20: DEPARTAMENTO
B23: NOMBRE DEL COORDINADOR
B27: FECHA INICIO | F27: FECHA DE TERMINO
B36: Paola Ascencio | F36: Paola Ascencio
B37: Coordinadora MAG1999 | F37: Directora de Planificación y
F38: Desarrollo Institucional
B41: INSTRUCCIONES GENERALES:
B43: CONFECCION FORMULARIO : Hoja de Egresos ir directamente a la hoja de Detalle y auto-
B44: maticamente se completa la hoja de Egresos e Inversiones , para la Hoja de Ingresos se
B45: debe ingresar a ella y para la Utilidad sólo ingresar el Porcentaje solo realiza los calculos.-
B46: Se recomienda designar una cantidad para imprevistos, la cual se debe colocar en el ítem 2_0263.
B47: La cancelación de los incentivos de acuerdo al Reglamento, se realizará una vez finalizado el pro -
B48: yecto o cuando el Coordinador de este , indique el cierre por escrito, debido a que no se realizarán
B49: mas gastos y de acuerdo a Ingresos efectivos para calcular la Utilidad.-
B50: Completar formulario en duplicado, una copia para Oficina de Presupuesto y otra para el
B51: interesado.-
B53: USO EXCLUSIVO DE PRESUPUESTO
B55: FECHA DE RECEPCION | F55: FECHA DE APROBACION
B58: CODIGO PRESUPUESTARIO ADJUNTO : | D58: 039632
B61: Observaciones :

Sheet INGRESOS
B2: ITEM | C2: DETALLE | F2: MONTO
C4: 1.- INGRESOS: | F4: =+F7+F12+F16+F20+F25+F29+F32+F36+F39+F43+F46+F49 -> 0
B7: 1_0111 | C7: PRESTACIONES DE SERVICIOS: Servicios donde prima la mano de | F7: 0
C8: obra por sobre los materiales a emplear / actividades afectas a IVA
C9: como: Reparaciones, Digitación, Instalaciones, otros.
B12: 1_0112 | C12: SERVICIOS DOCENTES: Ingresos provenientes por consultorías, | F12: 0
C13: estudios, análisis, Pre-Universitario y otros exentos de IVA.
B16: 1_0113 | C16: ASESORIAS TECNICAS: Ejecución de proyectos específicos, pedidos | F16: 0
C17: por industrias, empresas y/o entidades. No incluye capacitaciones.
B20: 1_0114 | C20: VENTA DE BIENES: Venta de bienes producidos en laboratorios, | F20: 0
C21: talleres, centros u otras dependencias de la Corporación, incluye ven-
C22: ta de apuntes y fotocopias.
B25: 1_0133 | C25: ARANCELES DE POST - GRADOS: Ingresos por Post -Títulos, de | F25: 0
C26: programas de especialización, seminarios, capacitación, cursos de
C27: extensión, perfeccionamiento.
B29: 1_0311 | C29: APORTES DEL SECTOR PRIVADO: Ingresos por aportes de perso-
C30: nas naturales y/o jurídicas de derecho privado.
B32: 1_0312 | C32: APORTES DEL SECTOR PUBLICO: Aportes o subvenciones que | F32: 0
C33: provienen de Ministerios, Empresas Públicas, Municipalidades, para
C34: fines determinados.
B36: 1_0313 | C36: APORTES DE PROYECTOS: Aportes o subvenciones que
C37: provienen de distribución de utilidades de cierres de proyectos.-
B39: 1_0715 | C39: INGRESOS DE AÑOS ANTERIORES: Ingresos que debieron ingresar | F39: 0
C40: el año anterior, cursos o proyectos con más de un año de duración, que
C41: ingresan el presente año.
B43: 1_0716 | C43: OTROS INGRESOS: Corresponde a cualquier otro ingreso que no se | F43: 0
C44: encuentre detallado anteriormente.
B46: 1_0717 | C46: OTROS INGRESOS AÑOS ANTERIORES: Corresponde a ingresos de años | F46: 0
C47: anteriores.
B49: 1_0811 | C49: SALDO INICIAL DE CAJA:Corresponde al saldo final de caja del año ante-
C50: rior de aquellas actividades o proyectos con más de un año de duración.
C53: OTRO CONCEPTO:

Sheet EGRESOS
B2: ITEM | C2: DETALLE | G2: MONTO
B4: Nota: Las casillas se completarán automaticamente desde la planilla DETALLE.-
C6: 2.- EGRESOS: | G6: =+G11+G15+G19+G22+G25+G28+G30+G32+G34+G36+G38+G41+G43+G45+G47+G49+G51+G53+G55+G57+G60+G62+G64+G67+G70+G72+G75+G77+G79+G81+G89+G90+G91+INVERSION!F6+INVERSION!F16+INVERSION!F44+G83++G87+G85+G92+G8 -> 0
B8: 2_0120 | C8: SUELDOS: Comprende los pagos al personal que cumple funciones de | G8: =+DETALLE!D13 -> 0
C9: docencia, investigacion , extension sean de jornada completa o parcial.
B11: 2_0141 | C11: HONORARIOS: Honorarios brutos de académicos, profesores invitados | G11: =+DETALLE!D43 -> 0
C12: profesionales o prestadores de servicios en virtud de un convenio de
C13: honorarios con la Universidad de Magallanes.
B15: 2_0151 | C15: VIATICOS: Corresponde a subsidios por gastos de alojamiento y alimen- | G15: =+DETALLE!D55 -> 0
C16: tación en que incurre el personal Directivo, Académico y No Académico
C17: por cometido funcionario.
B19: 2_0211 | C19: ALIMENTOS Y BEBIDAS: Alimentación para Funcionarios, alumnos | G19: =+DETALLE!C61 -> 0
C20: profesores invitados. Considera alimentación para animales.
B22: 2_0212 | C22: VESTUARIO Y CALZADO: Adquisición y/o confección de textiles, | G22: =+DETALLE!C63 -> 0
C23: vestuario y sus accesorios, calzados.
B25: 2_0213 | C25: COMBUSTIBLE Y LUBRICANTES: Destinados para el consumo de | G25: =+DETALLE!C64 -> 0
C26: maquinarias, equipos, vehículos, calefacción y otros.
B28: 2_0214 | C28: CONSUMOS BASICOS: Consumos de gas | G28: =+DETALLE!C65 -> 0
B30: 2_0215 | C30: CONSUMOS BASICOS: Consumos de LUZ | G30: =+DETALLE!C66 -> 0
B32: 2_0216 | C32: CONSUMOS BASICOS: Consumos de AGUA | G32: =+DETALLE!C67 -> 0
B34: 2_0217 | C34: CONSUMOS BASICOS: Consumos de TELEFONO | G34: =+DETALLE!C68 -> 0
B36: 2_0218 | C36: ALIMENTOS Y BEBIDAS VISITAS: Alimentación Profesores visitantes. | G36: =+DETALLE!C62 -> 0
B38: 2_0221 | C38: MATERIAL DE USO CORRIENTE: Material de escritorio, de enseñanza, | G38: =+DETALLE!C69 -> 0
C39: productos químicos y farmacéuticos, material de limpieza , estampilla.
B41: 2_0222 | C41: LIBROS: Libros de estudio, mapas, láminas revistas para la enseñanza. | G41: =+DETALLE!C70 -> 0
B43: 2_0224 | C43: SUSCRIPCIONES : a revista , libros , folletos, otros. | G43: =+DETALLE!C71 -> 0
B45: 2_0225 | C45: MATERIAL DE LABORATORIO: Productos Quimicos, Farmaceuticos, otros | G45: =+DETALLE!C72 -> 0
B47: 2_0226 | C47: MATERIAL HORTICOLA Y AGROPECUARIO. | G47: =+DETALLE!C73 -> 0
B49: 2_0231 | C49: IMPRESIÓN : impresión de avisos , folletos, laminas, etc. | G49: =+DETALLE!C74 -> 0
B51: 2_0232 | C51: FOTOCOPIAS: | G51: =+DETALLE!C75 -> 0
B53: 2_0233 | C53: SERVICIOS DE PUBLICIDAD Y DIFUSION: aviso en diario, radio, etc. | G53: =+DETALLE!C76 -> 0
B55: 2-0241 | C55: OTROS ARRIENDOS | G55: =+DETALLE!C77 -> 0
B57: 2-0242 | C57: ARRIENDO MUEBLES, INMUEBLES Y OTROS: Arriendo propiedades. | G57: =+DETALLE!C78 -> 0
B60: 2-0243 | C60: ARRIENDO DE MAQUINAS Y EQUIPOS | G60: =+DETALLE!C79 -> 0
B62: 2-0244 | C62: ARRIENDO DE VEHICULOS | G62: =+DETALLE!C80 -> 0
B64: 2_0251 | C64: GASTOS EN COMPUTACIÓN: Papel para impresora, diskettes, cintas | G64: =+DETALLE!C81 -> 0
C65: para computadoras, software.
B67: 2_0261 | C67: MANTENIMIENTO Y REPARACIONES: Gastos de reparaciones, | G67: =+DETALLE!C82 -> 0
C68: repuestos, herramientas, construcciones menores, mantenimiento gral.
B70: 2_0262 | C70: SERVICIOS DE TERCEROS ESPORADICOS: | G70: =+DETALLE!C83 -> 0
...

Sheet INVERSION
B2: ITEM | C2: DETALLE | F2: MONTO
B4: Nota: Las casillas se completarán automaticamente desde la planilla DETALLE.-
C6: 4.- TRANSFERENCIAS: | F6: =+F9+F11+F13 -> 0
B9: 2_0321 | C9: BECAS ESTUDIANTILES: Becas y premios para alumnos. | F9: =+DETALLE!C89 -> 0
B11: 2_0356 | C11: OTRAS TRANFERENCIA: | F11: =+DETALLE!C90 -> 0
B13: 2_0359 | C13: INSCRIPCIONES: Becas y otros. | F13: =+DETALLE!C91 -> 0
C16: 5.- INVERSIONES: | F16: =+F19+F22+F24+F26+F28+F32+F34+F36+F30+F38+F40+F42 -> 0
B19: 2_0411 | C19: MAQUINAS Y EQUIPOS: Máquinas y equipos para docencia, | F19: =+DETALLE!C157 -> 0
C20: investigación, muebles y enseres.
B22: 2_0412 | C22: MAQUINA Y EQUIPOS DE OFICINA | F22: =+DETALLE!C166 -> 0
B24: 2_0413 | C24: MUEBLES Y UTILES.- | F24: =+DETALLE!C174 -> 0
B26: 2_0414 | C26: MAQUINAS Y EQUIPOS DE COMPUTACION | F26: =+DETALLE!C183 -> 0
B28: 2_0415 | C28: HERRAMIENTAS | F28: =+DETALLE!C192 -> 0
B30: 2_0421 | C30: VEHICULOS | F30: =+DETALLE!C200 -> 0
B32: 2_0422 | C32: EMBARCACIONES | F32: =+DETALLE!C209 -> 0
B34: 2_0431 | C34: TERRENOS Y EDIFICIOS | F34: =+DETALLE!C218 -> 0
B36: 2_0441 | C36: CONSTRUCCIONES: Ampliaciones, obras físicas nuevas. | F36: =+DETALLE!C227 -> 0
B38: 2_0442 | C38: INSTALACIONES | F38: =+DETALLE!C236 -> 0
B40: 2_0443 | C40: MEJORAS | F40: =+DETALLE!C245 -> 0
B42: 2_0444 | C42: BIENES DE REPRODUCCION | F42: =+DETALLE!C254 -> 0
C44: 3.- COMPLEMENTARIAS | F44: =+F46+F47 -> 0
B46: 310214 | C46: FONDOS POR RENDIR | F46: =+DETALLE!C263 -> 0
B47: 310215 | C47: FONDOS FIJO | F47: =+DETALLE!C270 -> 0

Sheet DETALLE
B1: SUELDOS
B3: NOMBRE | C3: FUNCIONES | D3: MONTO
B13: TOTAL DE SUELDOS | D13: =SUM(D4:D12) -> 0
B16: HONORARIOS
B18: NOMBRE | C18: FUNCIONES | D18: MONTO
B43: TOTAL DE HONORARIOS | D43: =SUM(D19:D42) -> 0
B46: VIATICOS
B48: NOMBRE FUNCIONARIO | C48: DESTINO O LUGAR | D48: MONTO | E48: DIAS
B55: TOTAL DE VIATICOS | D55: =SUM(D48:D54) -> 0
B58: GASTOS DE OPERACIÓN
B60: ITEM | C60: MONTO
B61: ALIMENTOS Y BEBIDAS
B62: ALIMENTOS Y BEBIDAS VISITAS
B63: VESTUARIO Y CALZADO
B64: COMBUSTIBLE Y LUBRICANTES
B65: CONSUMOS BASICOS GAS
B66: CONSUMOS BASICOS LUZ
B67: CONSUMOS BASICOS AGUA
B68: CONSUMOS BASICOS TELEFONO
B69: MATERIAL DE USO CORRIENTE
B70: LIBROS
B71: SUSCRIPCIONES
B72: MATERIAL DE LABORATORIO
... B98: PASAJES VISITAS
B100: NOMBRE FUNCIONARIO | C100: DESTINO O LUGAR | D100: MONTO
D101: 0
D102: 0
B103: TOTAL PASAJES | D103: =SUM(D101:D102) -> 0
B106: PASAJES
B108: NOMBRE FUNCIONARIO | C108: DESTINO O LUGAR | D108: MONTO
B114: TOTAL PASAJES
B117: COMPROMISOS PENDIENTES GASTOS EN PERSONAL
B119: NOMBRE FUNCIONARIO | C119: DESTINO O LUGAR | D119: MONTO
B120: HONORARIOS 2021
D121: 0
B122: COMPROMISOS GTOS.PERSONAL | D122: =SUM(D120:D121) -> 0
B125: COMPROMISOS PENDIENTES BIENES Y SERVICIOS
B127: NOMBRE FUNCIONARIO | C127: DESTINO O LUGAR | D127: MONTO
D128: 0
D129: 0
...

Sheet Hoja1
A1: 4500000
A2: 9000000
A3: 50000
A4: 14125000
A5: 2000000
A6: 500000
A7: 8000000
A8: 67000000
A9: 200000000
A10: 2000000
A11: 10000000
A12: 15000000
... A44: 12000000
